BEGIN:VCALENDAR
VERSION:2.0
PRODID:-//BGA - ECPv6.15.20//NONSGML v1.0//EN
CALSCALE:GREGORIAN
METHOD:PUBLISH
X-ORIGINAL-URL:https://bga.amsterdam
X-WR-CALDESC:Evenementen voor BGA
REFRESH-INTERVAL;VALUE=DURATION:PT1H
X-Robots-Tag:noindex
X-PUBLISHED-TTL:PT1H
BEGIN:VTIMEZONE
TZID:Europe/Amsterdam
BEGIN:DAYLIGHT
TZOFFSETFROM:+0100
TZOFFSETTO:+0200
TZNAME:CEST
DTSTART:20210328T010000
END:DAYLIGHT
BEGIN:STANDARD
TZOFFSETFROM:+0200
TZOFFSETTO:+0100
TZNAME:CET
DTSTART:20211031T010000
END:STANDARD
BEGIN:DAYLIGHT
TZOFFSETFROM:+0100
TZOFFSETTO:+0200
TZNAME:CEST
DTSTART:20220327T010000
END:DAYLIGHT
BEGIN:STANDARD
TZOFFSETFROM:+0200
TZOFFSETTO:+0100
TZNAME:CET
DTSTART:20221030T010000
END:STANDARD
BEGIN:DAYLIGHT
TZOFFSETFROM:+0100
TZOFFSETTO:+0200
TZNAME:CEST
DTSTART:20230326T010000
END:DAYLIGHT
BEGIN:STANDARD
TZOFFSETFROM:+0200
TZOFFSETTO:+0100
TZNAME:CET
DTSTART:20231029T010000
END:STANDARD
END:VTIMEZONE
BEGIN:VEVENT
DTSTART;TZID=Europe/Amsterdam:20221123T210000
DTEND;TZID=Europe/Amsterdam:20221123T223000
DTSTAMP:20260421T191840
CREATED:20221114T132832Z
LAST-MODIFIED:20221116T161919Z
UID:4013-1669237200-1669242600@bga.amsterdam
SUMMARY:AM032 6banen - D35 C50 M50
DESCRIPTION:
URL:https://bga.amsterdam/event/am032-6banen-marathon-competitie/
LOCATION:JEbaan\, Radioweg 64\, Amsterdam\, Nederland
CATEGORIES:Marathon
ORGANIZER;CN="BGA":MAILTO:info@bga.amsterdam
END:VEVENT
END:VCALENDAR