BEGIN:VCALENDAR
VERSION:2.0
PRODID:-//BGA - ECPv6.15.20//NONSGML v1.0//EN
CALSCALE:GREGORIAN
METHOD:PUBLISH
X-WR-CALNAME:BGA
X-ORIGINAL-URL:https://bga.amsterdam
X-WR-CALDESC:Evenementen voor BGA
REFRESH-INTERVAL;VALUE=DURATION:PT1H
X-Robots-Tag:noindex
X-PUBLISHED-TTL:PT1H
BEGIN:VTIMEZONE
TZID:Europe/Amsterdam
BEGIN:DAYLIGHT
TZOFFSETFROM:+0100
TZOFFSETTO:+0200
TZNAME:CEST
DTSTART:20220327T010000
END:DAYLIGHT
BEGIN:STANDARD
TZOFFSETFROM:+0200
TZOFFSETTO:+0100
TZNAME:CET
DTSTART:20221030T010000
END:STANDARD
BEGIN:DAYLIGHT
TZOFFSETFROM:+0100
TZOFFSETTO:+0200
TZNAME:CEST
DTSTART:20230326T010000
END:DAYLIGHT
BEGIN:STANDARD
TZOFFSETFROM:+0200
TZOFFSETTO:+0100
TZNAME:CET
DTSTART:20231029T010000
END:STANDARD
BEGIN:DAYLIGHT
TZOFFSETFROM:+0100
TZOFFSETTO:+0200
TZNAME:CEST
DTSTART:20240331T010000
END:DAYLIGHT
BEGIN:STANDARD
TZOFFSETFROM:+0200
TZOFFSETTO:+0100
TZNAME:CET
DTSTART:20241027T010000
END:STANDARD
END:VTIMEZONE
BEGIN:VEVENT
DTSTART;TZID=Europe/Amsterdam:20230204T194000
DTEND;TZID=Europe/Amsterdam:20230204T220000
DTSTAMP:20260424T064113
CREATED:20230201T225934Z
LAST-MODIFIED:20230201T230102Z
UID:4361-1675539600-1675548000@bga.amsterdam
SUMMARY:AM079 HCA Familieavond
DESCRIPTION:Voor alle ouders\, familie en vrienden van leden van de HCA
URL:https://bga.amsterdam/event/hca-familieavond/
LOCATION:JEbaan\, Radioweg 64\, Amsterdam\, Nederland
CATEGORIES:Wedstrijd
END:VEVENT
BEGIN:VEVENT
DTSTART;TZID=Europe/Amsterdam:20230205T080000
DTEND;TZID=Europe/Amsterdam:20230205T170000
DTSTAMP:20260424T064113
CREATED:20230201T230039Z
LAST-MODIFIED:20230201T230039Z
UID:4363-1675584000-1675616400@bga.amsterdam
SUMMARY:AM081 Lange afstanden wedstrijd
DESCRIPTION:AM081 LANGERE AFSTANDEN voor ALLE categorie√´n (Gewestelijke Team Pursuit vervallen)
URL:https://bga.amsterdam/event/am081-lange-afstanden-wedstrijd/
LOCATION:JEbaan\, Radioweg 64\, Amsterdam\, Nederland
CATEGORIES:Langebaan,Wedstrijd
ORGANIZER;CN="BGA":MAILTO:info@bga.amsterdam
END:VEVENT
BEGIN:VEVENT
DTSTART;TZID=Europe/Amsterdam:20230208T210000
DTEND;TZID=Europe/Amsterdam:20230208T230000
DTSTAMP:20260424T064113
CREATED:20230201T230220Z
LAST-MODIFIED:20230201T230220Z
UID:4366-1675890000-1675897200@bga.amsterdam
SUMMARY:AM082 Amsterdamse Marathoncompetitie
DESCRIPTION:
URL:https://bga.amsterdam/event/am082-amsterdamse-marathoncompetitie/
LOCATION:JEbaan\, Radioweg 64\, Amsterdam\, Nederland
CATEGORIES:Marathon,Wedstrijd
ORGANIZER;CN="BGA":MAILTO:info@bga.amsterdam
END:VEVENT
BEGIN:VEVENT
DTSTART;TZID=Europe/Amsterdam:20230211T194000
DTEND;TZID=Europe/Amsterdam:20230211T220000
DTSTAMP:20260424T064113
CREATED:20230201T230340Z
LAST-MODIFIED:20230201T230340Z
UID:4368-1676144400-1676152800@bga.amsterdam
SUMMARY:AM083 AYC- Bokaal Junioren (open voor senioren/masters)
DESCRIPTION:
URL:https://bga.amsterdam/event/am083-ayc-bokaal-junioren-open-voor-senioren-masters/
LOCATION:JEbaan\, Radioweg 64\, Amsterdam\, Nederland
CATEGORIES:Langebaan,Wedstrijd
ORGANIZER;CN="BGA":MAILTO:info@bga.amsterdam
END:VEVENT
BEGIN:VEVENT
DTSTART;TZID=Europe/Amsterdam:20230212T070000
DTEND;TZID=Europe/Amsterdam:20230212T090000
DTSTAMP:20260424T064113
CREATED:20230201T230456Z
LAST-MODIFIED:20230201T230456Z
UID:4370-1676185200-1676192400@bga.amsterdam
SUMMARY:AM084 Finale Portengen Pupillencompetitie
DESCRIPTION:
URL:https://bga.amsterdam/event/am084-finale-portengen-pupillencompetitie/
LOCATION:JEbaan\, Radioweg 64\, Amsterdam\, Nederland
CATEGORIES:Wedstrijd
ORGANIZER;CN="BGA":MAILTO:info@bga.amsterdam
END:VEVENT
BEGIN:VEVENT
DTSTART;TZID=Europe/Amsterdam:20230212T192000
DTEND;TZID=Europe/Amsterdam:20230212T210000
DTSTAMP:20260424T064113
CREATED:20230201T230611Z
LAST-MODIFIED:20230201T230611Z
UID:4372-1676229600-1676235600@bga.amsterdam
SUMMARY:AM085 4x1\,5 (inschrijven bij Henk Veen)
DESCRIPTION:
URL:https://bga.amsterdam/event/am085-4x15-inschrijven-bij-henk-veen/
LOCATION:JEbaan\, Radioweg 64\, Amsterdam\, Nederland
CATEGORIES:Marathon,Wedstrijd
ORGANIZER;CN="BGA":MAILTO:info@bga.amsterdam
END:VEVENT
BEGIN:VEVENT
DTSTART;TZID=Europe/Amsterdam:20230215T210000
DTEND;TZID=Europe/Amsterdam:20230215T230000
DTSTAMP:20260424T064113
CREATED:20230201T230701Z
LAST-MODIFIED:20230201T230701Z
UID:4374-1676494800-1676502000@bga.amsterdam
SUMMARY:AM086 Amsterdamse Marathoncompetitie
DESCRIPTION:
URL:https://bga.amsterdam/event/am086-amsterdamse-marathoncompetitie/
LOCATION:JEbaan\, Radioweg 64\, Amsterdam\, Nederland
CATEGORIES:Marathon,Wedstrijd
ORGANIZER;CN="BGA":MAILTO:info@bga.amsterdam
END:VEVENT
BEGIN:VEVENT
DTSTART;TZID=Europe/Amsterdam:20230218T193000
DTEND;TZID=Europe/Amsterdam:20230218T220000
DTSTAMP:20260424T064113
CREATED:20230215T162513Z
LAST-MODIFIED:20230215T162513Z
UID:4456-1676748600-1676757600@bga.amsterdam
SUMMARY:AMLW230218 Aafje Houwer Trofee - HGI + Centrum in Leeuwarden
DESCRIPTION:
URL:https://bga.amsterdam/event/amlw230218-aafje-houwer-trofee-hgi-centrum-in-leeuwarden/
LOCATION:Leeuwarden\, Frysl√¢nplein 1\, Leeuwarden\, Friesland\, 8914 BZ\, Nederland
CATEGORIES:Langebaan,Wedstrijd
END:VEVENT
BEGIN:VEVENT
DTSTART;TZID=Europe/Amsterdam:20230218T194000
DTEND;TZID=Europe/Amsterdam:20230218T220000
DTSTAMP:20260424T064113
CREATED:20230215T162658Z
LAST-MODIFIED:20230215T162658Z
UID:4460-1676749200-1676757600@bga.amsterdam
SUMMARY:AM088 HCA - 6
DESCRIPTION:
URL:https://bga.amsterdam/event/am088-hca-6/
LOCATION:JEbaan\, Radioweg 64\, Amsterdam\, Nederland
CATEGORIES:Langebaan,Wedstrijd
END:VEVENT
BEGIN:VEVENT
DTSTART;TZID=Europe/Amsterdam:20230219T192000
DTEND;TZID=Europe/Amsterdam:20230219T220000
DTSTAMP:20260424T064113
CREATED:20230215T162839Z
LAST-MODIFIED:20230215T162839Z
UID:4462-1676834400-1676844000@bga.amsterdam
SUMMARY:AM090 CK Pup-Jun C: Driemond\, Baambrugge\, Diemen
DESCRIPTION:
URL:https://bga.amsterdam/event/am090-ck-pup-jun-c-driemond-baambrugge-diemen/
LOCATION:JEbaan\, Radioweg 64\, Amsterdam\, Nederland
CATEGORIES:Langebaan,Wedstrijd
END:VEVENT
BEGIN:VEVENT
DTSTART;TZID=Europe/Amsterdam:20230222T210000
DTEND;TZID=Europe/Amsterdam:20230222T223000
DTSTAMP:20260424T064113
CREATED:20230215T163107Z
LAST-MODIFIED:20230215T163107Z
UID:4468-1677099600-1677105000@bga.amsterdam
SUMMARY:AM091 Amsterdamse marathoncompetitie
DESCRIPTION:
URL:https://bga.amsterdam/event/am091-amsterdamse-marathoncompetitie/
LOCATION:JEbaan\, Radioweg 64\, Amsterdam\, Nederland
CATEGORIES:Marathon,Wedstrijd
ORGANIZER;CN="BGA":MAILTO:info@bga.amsterdam
END:VEVENT
BEGIN:VEVENT
DTSTART;TZID=Europe/Amsterdam:20230225T080000
DTEND;TZID=Europe/Amsterdam:20230225T170000
DTSTAMP:20260424T064113
CREATED:20230215T163021Z
LAST-MODIFIED:20230215T163021Z
UID:4466-1677312000-1677344400@bga.amsterdam
SUMMARY:AM092 Friends & Family: Pup t/m Master: Rijd tegen je vader of vriendin
DESCRIPTION:
URL:https://bga.amsterdam/event/am092-friends-family-pup-t-m-master-rijd-tegen-je-vader-of-vriendin/
LOCATION:JEbaan\, Radioweg 64\, Amsterdam\, Nederland
CATEGORIES:Langebaan,Wedstrijd
ORGANIZER;CN="BGA":MAILTO:info@bga.amsterdam
END:VEVENT
BEGIN:VEVENT
DTSTART;TZID=Europe/Amsterdam:20230226T070000
DTEND;TZID=Europe/Amsterdam:20230226T090000
DTSTAMP:20260424T064113
CREATED:20230215T162938Z
LAST-MODIFIED:20230215T162938Z
UID:4464-1677394800-1677402000@bga.amsterdam
SUMMARY:AM093 +Pup & Jun C\, B (langebaan&marathon) - 7
DESCRIPTION:
URL:https://bga.amsterdam/event/am093-pup-jun-c-b-langebaanmarathon-7/
LOCATION:JEbaan\, Radioweg 64\, Amsterdam\, Nederland
CATEGORIES:Langebaan,Marathon,Wedstrijd
ORGANIZER;CN="BGA":MAILTO:info@bga.amsterdam
END:VEVENT
BEGIN:VEVENT
DTSTART;TZID=Europe/Amsterdam:20230226T192000
DTEND;TZID=Europe/Amsterdam:20230226T210000
DTSTAMP:20260424T064113
CREATED:20230215T163154Z
LAST-MODIFIED:20230215T163154Z
UID:4470-1677439200-1677445200@bga.amsterdam
SUMMARY:AM094 Wedstrijd voor Jeugdschaatsers info en inschrijving via jeugdcommissie
DESCRIPTION:
URL:https://bga.amsterdam/event/am094-wedstrijd-voor-jeugdschaatsers-info-en-inschrijving-via-jeugdcommissie/
LOCATION:JEbaan\, Radioweg 64\, Amsterdam\, Nederland
CATEGORIES:Jeugdschaatsen,Langebaan,Wedstrijd
ORGANIZER;CN="BGA":MAILTO:info@bga.amsterdam
END:VEVENT
END:VCALENDAR