BEGIN:VCALENDAR
VERSION:2.0
PRODID:-//BGA - ECPv6.15.20//NONSGML v1.0//EN
CALSCALE:GREGORIAN
METHOD:PUBLISH
X-WR-CALNAME:BGA
X-ORIGINAL-URL:https://bga.amsterdam
X-WR-CALDESC:Evenementen voor BGA
REFRESH-INTERVAL;VALUE=DURATION:PT1H
X-Robots-Tag:noindex
X-PUBLISHED-TTL:PT1H
BEGIN:VTIMEZONE
TZID:Europe/Amsterdam
BEGIN:DAYLIGHT
TZOFFSETFROM:+0100
TZOFFSETTO:+0200
TZNAME:CEST
DTSTART:20210328T010000
END:DAYLIGHT
BEGIN:STANDARD
TZOFFSETFROM:+0200
TZOFFSETTO:+0100
TZNAME:CET
DTSTART:20211031T010000
END:STANDARD
BEGIN:DAYLIGHT
TZOFFSETFROM:+0100
TZOFFSETTO:+0200
TZNAME:CEST
DTSTART:20220327T010000
END:DAYLIGHT
BEGIN:STANDARD
TZOFFSETFROM:+0200
TZOFFSETTO:+0100
TZNAME:CET
DTSTART:20221030T010000
END:STANDARD
BEGIN:DAYLIGHT
TZOFFSETFROM:+0100
TZOFFSETTO:+0200
TZNAME:CEST
DTSTART:20230326T010000
END:DAYLIGHT
BEGIN:STANDARD
TZOFFSETFROM:+0200
TZOFFSETTO:+0100
TZNAME:CET
DTSTART:20231029T010000
END:STANDARD
END:VTIMEZONE
BEGIN:VEVENT
DTSTART;TZID=Europe/Amsterdam:20221022T154000
DTEND;TZID=Europe/Amsterdam:20221022T162500
DTSTAMP:20260423T103951
CREATED:20221013T141812Z
LAST-MODIFIED:20221013T152154Z
UID:3625-1666453200-1666455900@bga.amsterdam
SUMMARY:Aangepaste tijd Jeugdschaatsen
DESCRIPTION:Zaterdag 8 oktober eerste trainingsdag\, zaterdag 22 oktober aangepaste trainingstijden\nOp zaterdag beginnen de offici√´le trainingen van het nieuwe seizoen. Op 22 oktober¬†is er vanwege de landelijke marathon een aangepast¬† programma. Het jeugdschaatsen is van 15.40 tot 16.25 uur.¬†De training M07 is van 16.45 tot 17.30 uur. De landelijke marathon begint om 18.10 uur.
URL:https://bga.amsterdam/event/aangepaste-tijd-jeugdschaatsen/
CATEGORIES:Jeugdschaatsen
ORGANIZER;CN="BGA":MAILTO:info@bga.amsterdam
END:VEVENT
BEGIN:VEVENT
DTSTART;TZID=Europe/Amsterdam:20221019T210000
DTEND;TZID=Europe/Amsterdam:20221019T223000
DTSTAMP:20260423T103951
CREATED:20221013T142821Z
LAST-MODIFIED:20221013T142821Z
UID:3632-1666213200-1666218600@bga.amsterdam
SUMMARY:AM010 Amsterdamse Marathoncompetitie
DESCRIPTION:Inschrijven voor de hele competitie op de baan op marathonavonden.\nContant en gepast betalen Eur 15
URL:https://bga.amsterdam/event/am010-amsterdamse-marathoncompetitie/
CATEGORIES:Marathon
ORGANIZER;CN="BGA":MAILTO:info@bga.amsterdam
END:VEVENT
BEGIN:VEVENT
DTSTART;TZID=Europe/Amsterdam:20221016T192000
DTEND;TZID=Europe/Amsterdam:20221016T213000
DTSTAMP:20260423T103951
CREATED:20221013T142338Z
LAST-MODIFIED:20221013T152330Z
UID:3629-1665948000-1665955800@bga.amsterdam
SUMMARY:AM009 Andantino-2
DESCRIPTION:Junior Masters 500 – 1000/1500
URL:https://bga.amsterdam/event/am009-andantino-2/
LOCATION:JEbaan\, Radioweg 64\, Amsterdam\, Nederland
CATEGORIES:Langebaan,Wedstrijd
ORGANIZER;CN="BGA":MAILTO:info@bga.amsterdam
END:VEVENT
BEGIN:VEVENT
DTSTART;TZID=Europe/Amsterdam:20221015T194000
DTEND;TZID=Europe/Amsterdam:20221015T213000
DTSTAMP:20260423T103951
CREATED:20221013T141146Z
LAST-MODIFIED:20221013T152402Z
UID:3623-1665862800-1665869400@bga.amsterdam
SUMMARY:AM007 Andantino-1
DESCRIPTION:Junior – Masters. Alle categorie√´n 100-300-500-700-1500 \nPUPILLEN: Let op! De 100/500 is ongeveer 20.15 afgelopen.\nVoor de combinaties 100/100/300 en 100/500/300 is de wedstrijd om ongeveer 21.00 afgelopen. \nzie www.bga.amsterdam voor reglementen Pupillencompetitie en Andantino-Bokaal
URL:https://bga.amsterdam/event/am007-andantino-1-alle-categorieen-100-300-500-700-1500/
LOCATION:JEbaan\, Radioweg 64\, Amsterdam\, Nederland
CATEGORIES:Langebaan,Wedstrijd
ORGANIZER;CN="BGA":MAILTO:info@bga.amsterdam
END:VEVENT
BEGIN:VEVENT
DTSTART;VALUE=DATE:20221008
DTEND;VALUE=DATE:20221009
DTSTAMP:20260423T103951
CREATED:20220824T225633Z
LAST-MODIFIED:20220824T231026Z
UID:3494-1665187200-1665273599@bga.amsterdam
SUMMARY:Start seizoen 2022-23
DESCRIPTION:Genoeg getraind! We gaan weer het ijs op! Allemaal een heel fijn schaatsseizoen toegewenst!
URL:https://bga.amsterdam/event/start-seizoen-2022-23/
LOCATION:JEbaan\, Radioweg 64\, Amsterdam\, Nederland
CATEGORIES:Algemeen
END:VEVENT
END:VCALENDAR