BEGIN:VCALENDAR
VERSION:2.0
PRODID:-//BGA - ECPv6.15.20//NONSGML v1.0//EN
CALSCALE:GREGORIAN
METHOD:PUBLISH
X-WR-CALNAME:BGA
X-ORIGINAL-URL:https://bga.amsterdam
X-WR-CALDESC:Evenementen voor BGA
REFRESH-INTERVAL;VALUE=DURATION:PT1H
X-Robots-Tag:noindex
X-PUBLISHED-TTL:PT1H
BEGIN:VTIMEZONE
TZID:Europe/Amsterdam
BEGIN:DAYLIGHT
TZOFFSETFROM:+0100
TZOFFSETTO:+0200
TZNAME:CEST
DTSTART:20220327T010000
END:DAYLIGHT
BEGIN:STANDARD
TZOFFSETFROM:+0200
TZOFFSETTO:+0100
TZNAME:CET
DTSTART:20221030T010000
END:STANDARD
BEGIN:DAYLIGHT
TZOFFSETFROM:+0100
TZOFFSETTO:+0200
TZNAME:CEST
DTSTART:20230326T010000
END:DAYLIGHT
BEGIN:STANDARD
TZOFFSETFROM:+0200
TZOFFSETTO:+0100
TZNAME:CET
DTSTART:20231029T010000
END:STANDARD
BEGIN:DAYLIGHT
TZOFFSETFROM:+0100
TZOFFSETTO:+0200
TZNAME:CEST
DTSTART:20240331T010000
END:DAYLIGHT
BEGIN:STANDARD
TZOFFSETFROM:+0200
TZOFFSETTO:+0100
TZNAME:CET
DTSTART:20241027T010000
END:STANDARD
BEGIN:DAYLIGHT
TZOFFSETFROM:+0100
TZOFFSETTO:+0200
TZNAME:CEST
DTSTART:20250330T010000
END:DAYLIGHT
BEGIN:STANDARD
TZOFFSETFROM:+0200
TZOFFSETTO:+0100
TZNAME:CET
DTSTART:20251026T010000
END:STANDARD
END:VTIMEZONE
BEGIN:VEVENT
DTSTART;TZID=Europe/Amsterdam:20241229T192000
DTEND;TZID=Europe/Amsterdam:20241229T203000
DTSTAMP:20260421T094115
CREATED:20241227T093746Z
LAST-MODIFIED:20241227T093746Z
UID:6092-1735500000-1735504200@bga.amsterdam
SUMMARY:NSK marathon
DESCRIPTION:
URL:https://bga.amsterdam/event/nsk-marathon/
CATEGORIES:Marathon
ATTACH;FMTTYPE=image/jpeg:https://bga.amsterdam/wp-content/uploads/2017/10/Baanselectie53.jpg
ORGANIZER;CN="BGA":MAILTO:info@bga.amsterdam
END:VEVENT
BEGIN:VEVENT
DTSTART;TZID=Europe/Amsterdam:20241229T070000
DTEND;TZID=Europe/Amsterdam:20241229T070000
DTSTAMP:20260421T094115
CREATED:20241227T093114Z
LAST-MODIFIED:20241227T093114Z
UID:6090-1735455600-1735455600@bga.amsterdam
SUMMARY:Langebaan Pup Comp-5 + Jeugdmarathon-6
DESCRIPTION:
URL:https://bga.amsterdam/event/langebaan-pup-comp-5-jeugdmarathon-6/
CATEGORIES:Langebaan
ATTACH;FMTTYPE=image/jpeg:https://bga.amsterdam/wp-content/uploads/2024/10/IMG_6372.jpg
ORGANIZER;CN="BGA":MAILTO:info@bga.amsterdam
END:VEVENT
BEGIN:VEVENT
DTSTART;TZID=Europe/Amsterdam:20241026T194000
DTEND;TZID=Europe/Amsterdam:20241026T220000
DTSTAMP:20260421T094115
CREATED:20241002T140944Z
LAST-MODIFIED:20241002T140944Z
UID:5971-1729971600-1729980000@bga.amsterdam
SUMMARY:HCA Avond - 1
DESCRIPTION:
URL:https://bga.amsterdam/event/hca-avond-1-2/
CATEGORIES:Langebaan
END:VEVENT
BEGIN:VEVENT
DTSTART;TZID=Europe/Amsterdam:20241023T210000
DTEND;TZID=Europe/Amsterdam:20241023T223000
DTSTAMP:20260421T094115
CREATED:20241002T135504Z
LAST-MODIFIED:20241002T135504Z
UID:5962-1729717200-1729722600@bga.amsterdam
SUMMARY:Mar Comp CAT 6-2-1
DESCRIPTION:
URL:https://bga.amsterdam/event/mar-comp-cat-6-2-1/
CATEGORIES:Marathon
END:VEVENT
BEGIN:VEVENT
DTSTART;TZID=Europe/Amsterdam:20241020T192000
DTEND;TZID=Europe/Amsterdam:20241020T220000
DTSTAMP:20260421T094115
CREATED:20241002T140802Z
LAST-MODIFIED:20241002T140802Z
UID:5969-1729452000-1729461600@bga.amsterdam
SUMMARY:Andantino-1 | Jun-Masters 500-1000/1500
DESCRIPTION:
URL:https://bga.amsterdam/event/andantino-1-jun-masters-500-1000-1500/
CATEGORIES:Andantino,Langebaan
END:VEVENT
BEGIN:VEVENT
DTSTART;TZID=Europe/Amsterdam:20241020T070000
DTEND;TZID=Europe/Amsterdam:20241020T090000
DTSTAMP:20260421T094115
CREATED:20241002T135328Z
LAST-MODIFIED:20241002T135328Z
UID:5960-1729407600-1729414800@bga.amsterdam
SUMMARY:Langebaan en Jeugdmarathon-1
DESCRIPTION:
URL:https://bga.amsterdam/event/langebaan-en-jeugdmarathon-1/
CATEGORIES:Jeugdschaatsen,Langebaan,Marathon
END:VEVENT
BEGIN:VEVENT
DTSTART;TZID=Europe/Amsterdam:20241019T180000
DTEND;TZID=Europe/Amsterdam:20241019T223000
DTSTAMP:20260421T094115
CREATED:20240911T113301Z
LAST-MODIFIED:20240911T113443Z
UID:5891-1729360800-1729377000@bga.amsterdam
SUMMARY:Daikin Marathon Cup 1
DESCRIPTION:Foto: Timsimaging \nProgramma zaterdag 19 oktober:\n18:00 | Beloften Vrouwen\n19:00 | Topdivisie Vrouwen\n20:15 | Topdivisie Mannen\n21:45 | Beloften Mannen
URL:https://bga.amsterdam/event/daikin-marathon-cup-1/
LOCATION:JEbaan\, Radioweg 64\, Amsterdam\, Nederland
CATEGORIES:Marathon
ATTACH;FMTTYPE=image/jpeg:https://bga.amsterdam/wp-content/uploads/2024/09/Marathon_Jaap_Eden_IJsbaan_T9Rpt.2e16d0ba.fill-2040x1080-2.jpg
END:VEVENT
BEGIN:VEVENT
DTSTART;TZID=Europe/Amsterdam:20241019T164500
DTEND;TZID=Europe/Amsterdam:20241019T173000
DTSTAMP:20260421T094115
CREATED:20240925T162750Z
LAST-MODIFIED:20240925T162750Z
UID:5931-1729356300-1729359000@bga.amsterdam
SUMMARY:Vervroegd Za Trainingsuur
DESCRIPTION:Ivm de Nationale Marathon later op de avond is het traingsuur vervroegd.
URL:https://bga.amsterdam/event/vervroegd-za-trainingsuur/
CATEGORIES:Langebaan
ATTACH;FMTTYPE=image/jpeg:https://bga.amsterdam/wp-content/uploads/2022/03/8570406988_e60d64525d_c.jpg
END:VEVENT
BEGIN:VEVENT
DTSTART;TZID=Europe/Amsterdam:20241016T210000
DTEND;TZID=Europe/Amsterdam:20241016T223000
DTSTAMP:20260421T094115
CREATED:20241002T135200Z
LAST-MODIFIED:20241002T135200Z
UID:5958-1729112400-1729117800@bga.amsterdam
SUMMARY:Mar Comp CAT5-3-4
DESCRIPTION:
URL:https://bga.amsterdam/event/mar-comp-cat5-3-4/
CATEGORIES:Marathon
END:VEVENT
BEGIN:VEVENT
DTSTART;TZID=Europe/Amsterdam:20241013T192000
DTEND;TZID=Europe/Amsterdam:20241013T220000
DTSTAMP:20260421T094115
CREATED:20241002T140408Z
LAST-MODIFIED:20241002T140604Z
UID:5966-1728847200-1728856800@bga.amsterdam
SUMMARY:Korte combies en 500/1500 (alle categorie√´n)
DESCRIPTION:PUPILLEN:Let op! De 100/500 is ongeveer 20.15 afgelopen.\nVoor de combinaties 100/100/300 en 100/500/300 is de wedstrijd om ongeveer 21.00 afgelopen.
URL:https://bga.amsterdam/event/alle-categorieen-korte-combies-en-500-1500/
CATEGORIES:Langebaan,Wedstrijd
END:VEVENT
BEGIN:VEVENT
DTSTART;TZID=Europe/Amsterdam:20241012T194000
DTEND;TZID=Europe/Amsterdam:20241012T210000
DTSTAMP:20260421T094115
CREATED:20241002T140218Z
LAST-MODIFIED:20241002T140218Z
UID:5964-1728762000-1728766800@bga.amsterdam
SUMMARY:Supersprint (alle categorie√´n)
DESCRIPTION:Alle categorieen
URL:https://bga.amsterdam/event/supersprint-alle-categorieen/
CATEGORIES:Langebaan
END:VEVENT
BEGIN:VEVENT
DTSTART;TZID=Europe/Amsterdam:20241011T210000
DTEND;TZID=Europe/Amsterdam:20241011T223000
DTSTAMP:20260421T094115
CREATED:20241002T134943Z
LAST-MODIFIED:20241002T135715Z
UID:5956-1728680400-1728685800@bga.amsterdam
SUMMARY:Proefmarathon
DESCRIPTION:
URL:https://bga.amsterdam/event/proefmarathon/
CATEGORIES:Marathon
END:VEVENT
BEGIN:VEVENT
DTSTART;TZID=Europe/Amsterdam:20240217T180000
DTEND;TZID=Europe/Amsterdam:20240217T220000
DTSTAMP:20260421T094115
CREATED:20231209T113317Z
LAST-MODIFIED:20231209T113317Z
UID:5732-1708192800-1708207200@bga.amsterdam
SUMMARY:Daikin Marathon Cup 14
DESCRIPTION:Op zaterdag 17 februari vindt de dertiende Daikin Marathon Cup plaats op de Jaap Eden IJsbaan in Amsterdam. \nDe mannen en vrouwen van de lange adem strijden tijdens de Daikin Marathon Cupwedstrijden om de dagwinst en om punten voor het algemeen klassement. Zowel de Topdivisie als de Beloftendivisie start hun seizoen dit jaar in Groningen. \nDit marathonseizoen zijn er 15 wedstrijden om de Daikin Marathon Cup\, waarbij de laatste wordt verreden in De Elfstedenhal in Leeuwarden.¬†De winnaar van het klassement wint uiteindelijk d√© Daikin Marathon Cup. \nProgramma \nNog niet bekend
URL:https://bga.amsterdam/event/daikin-marathon-cup-14/
LOCATION:JEbaan\, Radioweg 64\, Amsterdam\, Nederland
CATEGORIES:Marathon,Wedstrijd
END:VEVENT
BEGIN:VEVENT
DTSTART;TZID=Europe/Amsterdam:20231217T150000
DTEND;TZID=Europe/Amsterdam:20231217T190000
DTSTAMP:20260421T094115
CREATED:20231209T112805Z
LAST-MODIFIED:20231209T112834Z
UID:5727-1702825200-1702839600@bga.amsterdam
SUMMARY:De Staatsloterij Schaatsmarathon
DESCRIPTION:Ervaar schaatsgeluk en kom naar de Staatsloterij Schaatsmarathon in Amsterdam! Naast de wedstrijden om de Daikin Marathon Cup\, het Nederlands Kampioenschap op 1 januari en de Grand Prix op de Weissensee en in het Zweedse Lulea is er dit jaar een nieuwe marathon aan de kalender toegevoegd voor de mannen en vrouwen van de lange adem: de Staatsloterij Schaatsmarathon. \nZondag 17 december wordt de renovatie van de Jaap Eden IJsbaan in Amsterdam ‚Äògevierd‚Äô met de eerste editie van de Staatsloterij Schaatsmarathon\, een wedstrijd met onder andere een 3-rondenklassement en een ‘Uitloopprijs’. \nDe Staatsloterij Schaatsmarathon wordt mede mogelijk gemaakt door: \n \nProgramma 17 december\n15.00 | Vrouwen Topdivisie aangevuld met aantal Vrouwen Beloften – 80 ronden\n16.15 | Mannen Topdivisie aangevuld met aantal Mannen Beloften – 125 ronden
URL:https://bga.amsterdam/event/de-staatsloterij-schaatsmarathon/
LOCATION:JEbaan\, Radioweg 64\, Amsterdam\, Nederland
CATEGORIES:Marathon,Wedstrijd
END:VEVENT
BEGIN:VEVENT
DTSTART;TZID=Europe/Amsterdam:20231028T194000
DTEND;TZID=Europe/Amsterdam:20231028T194000
DTSTAMP:20260421T094115
CREATED:20231020T144329Z
LAST-MODIFIED:20231020T144329Z
UID:5500-1698522000-1698522000@bga.amsterdam
SUMMARY:AM006 Andantino -1-
DESCRIPTION:
URL:https://bga.amsterdam/event/am006-andantino-1/
LOCATION:JEbaan\, Radioweg 64\, Amsterdam\, Nederland
CATEGORIES:Andantino,Langebaan,Wedstrijd
ORGANIZER;CN="BGA":MAILTO:info@bga.amsterdam
END:VEVENT
BEGIN:VEVENT
DTSTART;TZID=Europe/Amsterdam:20231025T210000
DTEND;TZID=Europe/Amsterdam:20231025T210000
DTSTAMP:20260421T094115
CREATED:20231020T144059Z
LAST-MODIFIED:20231020T144211Z
UID:5498-1698267600-1698267600@bga.amsterdam
SUMMARY:AM005 Start Amsterdamse Marathoncompetitie
DESCRIPTION:
URL:https://bga.amsterdam/event/am005-start-amsterdamse-marathoncompetitie/
LOCATION:JEbaan\, Radioweg 64\, Amsterdam\, Nederland
CATEGORIES:Marathon,Wedstrijd
ORGANIZER;CN="BGA":MAILTO:info@bga.amsterdam
END:VEVENT
BEGIN:VEVENT
DTSTART;TZID=Europe/Amsterdam:20231022T192000
DTEND;TZID=Europe/Amsterdam:20231022T192000
DTSTAMP:20260421T094115
CREATED:20231020T143703Z
LAST-MODIFIED:20231020T143703Z
UID:5496-1698002400-1698002400@bga.amsterdam
SUMMARY:AM004 Alle categorieen\, korte combies en 500/1500
DESCRIPTION:
URL:https://bga.amsterdam/event/am004-alle-categorieen-korte-combies-en-500-1500/
LOCATION:JEbaan\, Radioweg 64\, Amsterdam\, Nederland
CATEGORIES:Langebaan
ORGANIZER;CN="BGA":MAILTO:info@bga.amsterdam
END:VEVENT
BEGIN:VEVENT
DTSTART;TZID=Europe/Amsterdam:20231021T194000
DTEND;TZID=Europe/Amsterdam:20231021T194000
DTSTAMP:20260421T094115
CREATED:20231020T143038Z
LAST-MODIFIED:20231020T143746Z
UID:5492-1697917200-1697917200@bga.amsterdam
SUMMARY:AM002 Supersprint AFGELAST
DESCRIPTION:
URL:https://bga.amsterdam/event/am002-supersprint-afgelast/
CATEGORIES:AFGELAST,Langebaan,Wedstrijd
END:VEVENT
BEGIN:VEVENT
DTSTART;TZID=Europe/Amsterdam:20231020T210000
DTEND;TZID=Europe/Amsterdam:20231020T230000
DTSTAMP:20260421T094115
CREATED:20231020T142924Z
LAST-MODIFIED:20231020T142924Z
UID:5490-1697835600-1697842800@bga.amsterdam
SUMMARY:AM001 Inschrijfavond en openingsmarathon
DESCRIPTION:
URL:https://bga.amsterdam/event/am001-inschrijfavond-en-openingsmarathon/
LOCATION:JEbaan\, Radioweg 64\, Amsterdam\, Nederland
CATEGORIES:Marathon
ORGANIZER;CN="BGA":MAILTO:info@bga.amsterdam
END:VEVENT
BEGIN:VEVENT
DTSTART;TZID=Europe/Amsterdam:20231020T204500
DTEND;TZID=Europe/Amsterdam:20231020T204500
DTSTAMP:20260421T094115
CREATED:20231020T142723Z
LAST-MODIFIED:20231020T143819Z
UID:5488-1697834700-1697834700@bga.amsterdam
SUMMARY:AM000C Proefmarathon Pup en Jun-C
DESCRIPTION:
URL:https://bga.amsterdam/event/am000c-proefmarathon-pup-en-jun-c/
LOCATION:JEbaan\, Radioweg 64\, Amsterdam\, Nederland
CATEGORIES:Marathon
ORGANIZER;CN="BGA":MAILTO:info@bga.amsterdam
END:VEVENT
BEGIN:VEVENT
DTSTART;TZID=Europe/Amsterdam:20230318T203000
DTEND;TZID=Europe/Amsterdam:20230318T223000
DTSTAMP:20260421T094115
CREATED:20230215T165158Z
LAST-MODIFIED:20230215T165158Z
UID:4515-1679171400-1679178600@bga.amsterdam
SUMMARY:AM112 CK Skits\, Ztikz (54) + Hogerop (29)
DESCRIPTION:
URL:https://bga.amsterdam/event/am112-ck-skits-ztikz-54-hogerop-29/
LOCATION:JEbaan\, Radioweg 64\, Amsterdam\, Nederland
CATEGORIES:Langebaan,Wedstrijd
END:VEVENT
BEGIN:VEVENT
DTSTART;TZID=Europe/Amsterdam:20230318T181500
DTEND;TZID=Europe/Amsterdam:20230318T203000
DTSTAMP:20260421T094115
CREATED:20230215T164936Z
LAST-MODIFIED:20230215T164936Z
UID:4513-1679163300-1679171400@bga.amsterdam
SUMMARY:AM111 - Kampioenschap van Amsterdam - Pupillen AB en Junioren CB
DESCRIPTION:
URL:https://bga.amsterdam/event/am111-kampioenschap-van-amsterdam-pupillen-ab-en-junioren-cb/
LOCATION:JEbaan\, Radioweg 64\, Amsterdam\, Nederland
CATEGORIES:Langebaan,Wedstrijd
ORGANIZER;CN="BGA":MAILTO:info@bga.amsterdam
END:VEVENT
BEGIN:VEVENT
DTSTART;TZID=Europe/Amsterdam:20230318T070000
DTEND;TZID=Europe/Amsterdam:20230318T090000
DTSTAMP:20260421T094115
CREATED:20230215T164656Z
LAST-MODIFIED:20230215T164656Z
UID:4507-1679122800-1679130000@bga.amsterdam
SUMMARY:AM108 KvA - Pupillen CDE
DESCRIPTION:
URL:https://bga.amsterdam/event/am108-kva-pupillen-cde/
LOCATION:JEbaan\, Radioweg 64\, Amsterdam\, Nederland
CATEGORIES:Langebaan,Wedstrijd
ORGANIZER;CN="BGA":MAILTO:info@bga.amsterdam
END:VEVENT
BEGIN:VEVENT
DTSTART;TZID=Europe/Amsterdam:20230317T181000
DTEND;TZID=Europe/Amsterdam:20230317T200000
DTSTAMP:20260421T094115
CREATED:20230215T164503Z
LAST-MODIFIED:20230215T164503Z
UID:4502-1679076600-1679083200@bga.amsterdam
SUMMARY:AM107 CK: Waterland & Amstelbocht (61)
DESCRIPTION:
URL:https://bga.amsterdam/event/am107-ck-waterland-amstelbocht-61/
LOCATION:JEbaan\, Radioweg 64\, Amsterdam\, Nederland
CATEGORIES:Langebaan,Wedstrijd
END:VEVENT
BEGIN:VEVENT
DTSTART;TZID=Europe/Amsterdam:20230315T200000
DTEND;TZID=Europe/Amsterdam:20230315T220000
DTSTAMP:20260421T094115
CREATED:20230215T164200Z
LAST-MODIFIED:20230215T164200Z
UID:4496-1678910400-1678917600@bga.amsterdam
SUMMARY:AM105 Marathon kampioenschap van Amsterdam - inschrijven niet nodig
DESCRIPTION:
URL:https://bga.amsterdam/event/am105-marathon-kampioenschap-van-amsterdam-inschrijven-niet-nodig/
LOCATION:JEbaan\, Radioweg 64\, Amsterdam\, Nederland
CATEGORIES:Marathon
ORGANIZER;CN="BGA":MAILTO:info@bga.amsterdam
END:VEVENT
BEGIN:VEVENT
DTSTART;TZID=Europe/Amsterdam:20230315T175000
DTEND;TZID=Europe/Amsterdam:20230315T200000
DTSTAMP:20260421T094115
CREATED:20230215T164111Z
LAST-MODIFIED:20230215T164111Z
UID:4493-1678902600-1678910400@bga.amsterdam
SUMMARY:AM104 CK ASV (47) + STG Lelystad (30)
DESCRIPTION:
URL:https://bga.amsterdam/event/am104-ck-asv-47-stg-lelystad-30/
LOCATION:JEbaan\, Radioweg 64\, Amsterdam\, Nederland
CATEGORIES:Langebaan
END:VEVENT
BEGIN:VEVENT
DTSTART;TZID=Europe/Amsterdam:20230314T080000
DTEND;TZID=Europe/Amsterdam:20230314T170000
DTSTAMP:20260421T094115
CREATED:20230215T163820Z
LAST-MODIFIED:20230215T163820Z
UID:4487-1678780800-1678813200@bga.amsterdam
SUMMARY:AM103 CK 5Dorpen (22) + Viking (40)
DESCRIPTION:
URL:https://bga.amsterdam/event/am103-ck-5dorpen-22-viking-40/
LOCATION:JEbaan\, Radioweg 64\, Amsterdam\, Nederland
CATEGORIES:Langebaan,Wedstrijd
END:VEVENT
BEGIN:VEVENT
DTSTART;TZID=Europe/Amsterdam:20230312T192000
DTEND;TZID=Europe/Amsterdam:20230312T220000
DTSTAMP:20260421T094115
CREATED:20230215T163729Z
LAST-MODIFIED:20230215T163729Z
UID:4485-1678648800-1678658400@bga.amsterdam
SUMMARY:AM102 CK: HGI + Centrum (59)
DESCRIPTION:
URL:https://bga.amsterdam/event/am102-ck-hgi-centrum-59/
LOCATION:JEbaan\, Radioweg 64\, Amsterdam\, Nederland
CATEGORIES:Langebaan,Wedstrijd
END:VEVENT
BEGIN:VEVENT
DTSTART;TZID=Europe/Amsterdam:20230312T070000
DTEND;TZID=Europe/Amsterdam:20230312T090000
DTSTAMP:20260421T094115
CREATED:20230215T163644Z
LAST-MODIFIED:20230215T163644Z
UID:4483-1678604400-1678611600@bga.amsterdam
SUMMARY:AM101 -Pup & Jun C\, B (langebaan&marathon) - 8 FINALE
DESCRIPTION:
URL:https://bga.amsterdam/event/am101-pup-jun-c-b-langebaanmarathon-8-finale/
LOCATION:JEbaan\, Radioweg 64\, Amsterdam\, Nederland
CATEGORIES:Langebaan,Marathon
ORGANIZER;CN="BGA":MAILTO:info@bga.amsterdam
END:VEVENT
BEGIN:VEVENT
DTSTART;TZID=Europe/Amsterdam:20230311T194000
DTEND;TZID=Europe/Amsterdam:20230311T230000
DTSTAMP:20260421T094115
CREATED:20230215T163556Z
LAST-MODIFIED:20230215T163556Z
UID:4481-1678563600-1678575600@bga.amsterdam
SUMMARY:AM100 Clubkampioenschappen HCA
DESCRIPTION:
URL:https://bga.amsterdam/event/am100-clubkampioenschappen-hca/
LOCATION:JEbaan\, Radioweg 64\, Amsterdam\, Nederland
CATEGORIES:Langebaan,Wedstrijd
END:VEVENT
END:VCALENDAR