BEGIN:VCALENDAR
VERSION:2.0
PRODID:-//BGA - ECPv6.15.20//NONSGML v1.0//EN
CALSCALE:GREGORIAN
METHOD:PUBLISH
X-ORIGINAL-URL:https://bga.amsterdam
X-WR-CALDESC:Evenementen voor BGA
REFRESH-INTERVAL;VALUE=DURATION:PT1H
X-Robots-Tag:noindex
X-PUBLISHED-TTL:PT1H
BEGIN:VTIMEZONE
TZID:Europe/Amsterdam
BEGIN:DAYLIGHT
TZOFFSETFROM:+0100
TZOFFSETTO:+0200
TZNAME:CEST
DTSTART:20240331T010000
END:DAYLIGHT
BEGIN:STANDARD
TZOFFSETFROM:+0200
TZOFFSETTO:+0100
TZNAME:CET
DTSTART:20241027T010000
END:STANDARD
BEGIN:DAYLIGHT
TZOFFSETFROM:+0100
TZOFFSETTO:+0200
TZNAME:CEST
DTSTART:20250330T010000
END:DAYLIGHT
BEGIN:STANDARD
TZOFFSETFROM:+0200
TZOFFSETTO:+0100
TZNAME:CET
DTSTART:20251026T010000
END:STANDARD
BEGIN:DAYLIGHT
TZOFFSETFROM:+0100
TZOFFSETTO:+0200
TZNAME:CEST
DTSTART:20260329T010000
END:DAYLIGHT
BEGIN:STANDARD
TZOFFSETFROM:+0200
TZOFFSETTO:+0100
TZNAME:CET
DTSTART:20261025T010000
END:STANDARD
BEGIN:DAYLIGHT
TZOFFSETFROM:+0100
TZOFFSETTO:+0200
TZNAME:CEST
DTSTART:20270328T010000
END:DAYLIGHT
BEGIN:STANDARD
TZOFFSETFROM:+0200
TZOFFSETTO:+0100
TZNAME:CET
DTSTART:20271031T010000
END:STANDARD
END:VTIMEZONE
BEGIN:VEVENT
DTSTART;TZID=Europe/Amsterdam:20260214T194000
DTEND;TZID=Europe/Amsterdam:20260214T213000
DTSTAMP:20260421T041337
CREATED:20260123T092234Z
LAST-MODIFIED:20260123T092234Z
UID:6632-1771098000-1771104600@bga.amsterdam
SUMMARY:HCA avond
DESCRIPTION:
URL:https://bga.amsterdam/event/hca-avond/
LOCATION:JEbaan\, Radioweg 64\, Amsterdam\, Nederland
CATEGORIES:Langebaan,Wedstrijd
END:VEVENT
BEGIN:VEVENT
DTSTART;TZID=Europe/Amsterdam:20260208T070000
DTEND;TZID=Europe/Amsterdam:20260208T090000
DTSTAMP:20260421T041337
CREATED:20260120T124216Z
LAST-MODIFIED:20260120T124216Z
UID:6602-1770534000-1770541200@bga.amsterdam
SUMMARY:Finale Portengen Pupillencompetitie
DESCRIPTION:
URL:https://bga.amsterdam/event/finale-portengen-pupillencompetitie-2/
LOCATION:JEbaan\, Radioweg 64\, Amsterdam\, Nederland
CATEGORIES:Langebaan
ORGANIZER;CN="BGA":MAILTO:info@bga.amsterdam
END:VEVENT
BEGIN:VEVENT
DTSTART;TZID=Europe/Amsterdam:20260201T192000
DTEND;TZID=Europe/Amsterdam:20260201T213000
DTSTAMP:20260421T041337
CREATED:20260120T124035Z
LAST-MODIFIED:20260120T124035Z
UID:6600-1769973600-1769981400@bga.amsterdam
SUMMARY:FINALE Andantino Bokaal // Kamp v A'dam Neo\, Senioren\, Masters
DESCRIPTION:Rijders die zijn uitgenodigd voor het Kampioenschap van Amsterdam kunnen tot 25 januari zich met voorrang inschrijven.
URL:https://bga.amsterdam/event/finale-andantino-bokaal-kamp-v-adam-neo-senioren-masters/
LOCATION:JEbaan\, Radioweg 64\, Amsterdam\, Nederland
CATEGORIES:Langebaan
ORGANIZER;CN="BGA":MAILTO:info@bga.amsterdam
END:VEVENT
BEGIN:VEVENT
DTSTART;TZID=Europe/Amsterdam:20260131T200000
DTEND;TZID=Europe/Amsterdam:20260131T230000
DTSTAMP:20260421T041337
CREATED:20260120T123358Z
LAST-MODIFIED:20260120T123358Z
UID:6598-1769889600-1769900400@bga.amsterdam
SUMMARY:HCA clubwedstrijd in Leeuwarden
DESCRIPTION:Aan deze wedstrijd zijn deelnemerskosten verbonden. Deze worden vanuit de ledenadministratie doorgestuurd en verschillen per afstandscombinatie. \nKosten per deelnemer:\n500-300: E 5.-\n500-1000: E 10.-\n500-1500: E 10.- \nMochten er problemen zijn met inschrijven voor deze wedstrijd\, neem dan contact op met het HCA-wedstrijdsecretariaat.
URL:https://bga.amsterdam/event/hca-clubwedstrijd-in-leeuwarden/
LOCATION:Leeuwarden\, Frysl√¢nplein 1\, Leeuwarden\, Friesland\, 8914 BZ\, Nederland
CATEGORIES:Langebaan
END:VEVENT
BEGIN:VEVENT
DTSTART;TZID=Europe/Amsterdam:20260131T194000
DTEND;TZID=Europe/Amsterdam:20260131T213000
DTSTAMP:20260421T041337
CREATED:20260120T123250Z
LAST-MODIFIED:20260120T123250Z
UID:6596-1769888400-1769895000@bga.amsterdam
SUMMARY:Hogerop Women Cup
DESCRIPTION:Op zaterdag 31 januari 2026 organiseert Schaatsvereniging Hogerop voor de 22e keer de\nHogerop Womencup op de Jaap Eden IJsbaan in Amsterdam.\nAan deze GRATIS women-only wedstrijd kunnen alle vrouwen met én zonder\nwedstrijdlicentie deelnemen. Het is voor vrouwen van elk schaatsniveau. Deze unieke\nformule staat garant voor een avond vol plezier\, persoonlijke overwinningen in een bovenal\nontspannen sfeer.\nCategorieën\nDe deelnemers strijden in drie categorieën.\n– De dames van 19 jaar en ouder schaatsen om de Womencup en de Womencup\nLight. De scheidslijn wordt aan de hand van het 500 meter klassement gemaakt.\n– Speciaal voor meiden van 15 – 18 jaar die goed kunnen schaatsen is er de Women\nCup-Mini. Daarbij houden we de KNSB categorieën aan (Junioren A en B\, geboren\ntussen 1-7-2006 en 30-6-2010) (https://knsb.nl/sporten/lange-en-\nkortebaanschaatsen/wedstrijdschaatsen/wedstrijdschaatsen/)\nWat gaan we doen?\nDeelneemsters rijden in kwartetten een 500 en 1000 meter.\nTussen de wedstrijden door is er koek en zopie.\nGRATIS INSCHRIJVEN! \n– Dames met een wedstrijdlicentie en/of KNSB-nummer kunnen zich vanaf 7\ndecember 2025 aanmelden via inschrijven.schaatsen.nl.\n– Dames zonder wedstrijdlicentie en/of KNSB-nummer kunnen zich vanaf 7 december\n2025 aanmelden via het formulier op www.hogerop.org\nDe inschrijving sluit op 24 januari 2026 of wanneer het maximaal aantal rijdsters (64) is\nbereikt.\nWat is Hogerop?\nHogerop is een schaatsvereniging uit Amsterdam met sporters die respect hebben voor\nelkaars prestaties en hechten aan gezelligheid en een ongedwongen sfeer. Schaatsers van\nHogerop kom je tegen op de Jaap Edenbaan\, maar ook op andere ijsbanen. En als het kan\nop natuurijs!\nKijk ook op www.hogerop.org of www.facebook.com/hogeropwomencup of volg ons op Instagram https://www.instagram.com/hogeropwomencup/
URL:https://bga.amsterdam/event/hogerop-women-cup/
LOCATION:JEbaan\, Radioweg 64\, Amsterdam\, Nederland
CATEGORIES:Langebaan,Wedstrijd
END:VEVENT
BEGIN:VEVENT
DTSTART;TZID=Europe/Amsterdam:20260125T192000
DTEND;TZID=Europe/Amsterdam:20260125T213000
DTSTAMP:20260421T041337
CREATED:20260120T123116Z
LAST-MODIFIED:20260120T123116Z
UID:6594-1769368800-1769376600@bga.amsterdam
SUMMARY:CK Waterland en Amstelbocht
DESCRIPTION:Clubkampioenschap van Stg Waterland en Amstelbocht
URL:https://bga.amsterdam/event/ck-waterland-en-amstelbocht/
LOCATION:JEbaan\, Radioweg 64\, Amsterdam\, Nederland
CATEGORIES:Clubkampioenschap,Wedstrijd
END:VEVENT
BEGIN:VEVENT
DTSTART;TZID=Europe/Amsterdam:20260125T070000
DTEND;TZID=Europe/Amsterdam:20260125T090000
DTSTAMP:20260421T041337
CREATED:20260120T122840Z
LAST-MODIFIED:20260120T122906Z
UID:6592-1769324400-1769331600@bga.amsterdam
SUMMARY:AYC Bokaal voor Pup A en Jun C1 (op uitnodiging)
DESCRIPTION:Wedstrijd op uitnodiging \nDe Amsterdamse IJsclub organiseerde meer dan 125 jaar geleden het eerste Wereldkampioenschap schaatsen op het Museumplein.\nNog steeds stimuleert deze roemruchte ijsclub het schaatsen in Amsterdam op vele manieren.\nOnder andere als sponsor van de AIJC-bokaal voor Pupillen A en Junioren C1.\nDeze wedstrijd is voor de beste Amsterdamse langebaan- én marathonschaatsers uit de categorieën Pupillen A en Junioren C1.\nDe wedstrijd gaat over 3 onderdelen: 500m\, 300m en mass start.\nDe Amsterdamsche IJsclub stelt daarvoor vele prijzen beschikbaar. \n* Als je NIET kan/wil deelnemen\, dan graag EERST inschrijven. In de bevestigingsmail die je dan krijgt staat een LINK\, waarmee je je kan AFMELDEN.\nOp die manier weten de Reserves dat er een plaatsje is vrijgekomen\n* Reserves die mee willen doen\, moeten zich ook inschrijven.
URL:https://bga.amsterdam/event/ayc-bokaal-voor-pup-a-en-jun-c1-op-uitnodiging/
LOCATION:JEbaan\, Radioweg 64\, Amsterdam\, Nederland
CATEGORIES:Langebaan,Wedstrijd
ATTACH;FMTTYPE=image/jpeg:https://bga.amsterdam/wp-content/uploads/2025/11/1000046152.jpg
ORGANIZER;CN="BGA":MAILTO:info@bga.amsterdam
END:VEVENT
BEGIN:VEVENT
DTSTART;TZID=Europe/Amsterdam:20260124T194000
DTEND;TZID=Europe/Amsterdam:20260124T213000
DTSTAMP:20260421T041337
CREATED:20260120T122620Z
LAST-MODIFIED:20260120T122620Z
UID:6590-1769283600-1769290200@bga.amsterdam
SUMMARY:Wedstrijd Alle categorieën
DESCRIPTION:Stel je eigen afstandscombinatie samen.\nMaximaal 2 afstanden selecteren!
URL:https://bga.amsterdam/event/wedstrijd-alle-categorieen/
LOCATION:JEbaan\, Radioweg 64\, Amsterdam\, Nederland
CATEGORIES:Langebaan,Wedstrijd
ORGANIZER;CN="BGA":MAILTO:info@bga.amsterdam
END:VEVENT
BEGIN:VEVENT
DTSTART;TZID=Europe/Amsterdam:20251120T180000
DTEND;TZID=Europe/Amsterdam:20251120T210000
DTSTAMP:20260421T041337
CREATED:20250828T104501Z
LAST-MODIFIED:20250828T105457Z
UID:6362-1763661600-1763672400@bga.amsterdam
SUMMARY:4-daagse van NH (1e avond)
DESCRIPTION:Donderdagavond 20 november 2025 ¬†de 1e¬†avond van vierdaagse van ‚ÄúDe Vier van Noord Holland‚Äù \n¬† \n-18.00 uur baanverzorging \n-18.30 uur inrijden Top Vrouwen \n-18.40 uur start Top Vrouwen \n-19.15 uur finish Top Vrouwen \n-19.45 uur start Top Mannen \n-20.25 uur finish Top Mannen \n-21.00 uur baan weer open voor publiek. \n\nHierbij gaat toerschaatsuur M24 van 17.00 -18.00 uur gewoon door. \nToerschaatsuren M25 en M26 vervallen. \nAbonnementhouders op deze uren mogen op vertoon van hun abonnement de wedstrijden gratis bezoeken of dit uur tijdens publiekschaatsen inhalen.
URL:https://bga.amsterdam/event/4daagse-van-nh-1e-avond/
LOCATION:JEbaan\, Radioweg 64\, Amsterdam\, Nederland
CATEGORIES:Marathon
ATTACH;FMTTYPE=image/png:https://bga.amsterdam/wp-content/uploads/2022/11/Marathon_algemeen.png
END:VEVENT
BEGIN:VEVENT
DTSTART;TZID=Europe/Amsterdam:20251107T210000
DTEND;TZID=Europe/Amsterdam:20251107T230000
DTSTAMP:20260421T041337
CREATED:20251012T105357Z
LAST-MODIFIED:20251012T105719Z
UID:6409-1762549200-1762556400@bga.amsterdam
SUMMARY:Prestatietocht 111-ronden
DESCRIPTION:Inschrijven 111-ronden\n\n\n \nGebruik onderstaand formulier om je in te schrijven voor de enige echte ‚ÄúTocht de Tochten‚Äù buiten natuurijs! Zie je op de ijsbaan! \nDe datum is al geprikt\, zet hem alvast in je agenda en schrijf je alvast in! Let op\, de starttijd is 21:11. Dit heeft te maken met klachten over het geluid van de omwonenden en het late tijdstip voor personeel in de Jaap en de ijsmeester. \nDatum: vrijdag 7 november 2025\nTijd: 21:11\n  \nSchrijf je hier in! \nDe inschrijving gaat begin oktober open en de betaling gebeurt direct bij inschrijving. Dit scheelt drukte bij de inschrijfbalie (in de Jaap Edenhal\, rechts naast de ingang). \nHet belooft prachtig schaatsweer te worden! \nHCA leden¬†die zich al hebben ingeschreven halen hun stempelkaart op bij de inschrijfbalie. HCA leden die nog niet hebben ingeschreven kunnen zich daar registreren. \nNiet HCA leden¬†die nog niet hebben betaald bij inschrijving moeten nog even langs om te betalen. Er is een pin automaat aanwezig\, maar we adviseren om ook gepast geld mee te nemen (‚Ç¨7\,50 pp).
URL:https://bga.amsterdam/event/prestatietocht-111-ronden/
LOCATION:JEbaan\, Radioweg 64\, Amsterdam\, Nederland
CATEGORIES:Marathon,Toerschaatsen
ATTACH;FMTTYPE=image/png:https://bga.amsterdam/wp-content/uploads/2025/10/Scherm¬≠afbeelding-2025-10-06-om-19.00.40-e1760266541742.png
END:VEVENT
BEGIN:VEVENT
DTSTART;TZID=Europe/Amsterdam:20251018T180000
DTEND;TZID=Europe/Amsterdam:20251018T230000
DTSTAMP:20260421T041337
CREATED:20250828T104247Z
LAST-MODIFIED:20250828T104247Z
UID:6360-1760810400-1760828400@bga.amsterdam
SUMMARY:Marathon - 53e JE trofee
DESCRIPTION:Zaterdag 18 oktober 2025 de 53e¬†Jaap Edentrofee. \nHier hanteren we de regeling van de laatste jaren met vervroegd en ingekort jeudschaatsen en hardrijden. \n\n-15.25 uur einde publieksschaatsen \n-15.40 ‚Äì 16.25 uur vervroegd jeugdschaatsen M13 (normaal 16.55 ‚Äì 17.55 uur) \n-16.45 ‚Äì 17.30 uur vervroegd hardrijden M07 (normaal 18.15-19.20 uur. \n-18.00 uur inrijden Vrouwen \n-18.10 uur start Beloften Vrouwen \n-19.00 uur start Top Vrouwen \n-20.15 uur start Top Mannen \n-21.45 uur start Beloften Mannen.
URL:https://bga.amsterdam/event/marathon-53e-je-trofee/
LOCATION:JEbaan\, Radioweg 64\, Amsterdam\, Nederland
CATEGORIES:Marathon
ATTACH;FMTTYPE=image/png:https://bga.amsterdam/wp-content/uploads/2022/11/Marathon_algemeen.png
END:VEVENT
BEGIN:VEVENT
DTSTART;TZID=Europe/Amsterdam:20251018T164500
DTEND;TZID=Europe/Amsterdam:20251018T173000
DTSTAMP:20260421T041337
CREATED:20250828T105106Z
LAST-MODIFIED:20250828T105106Z
UID:6366-1760805900-1760808600@bga.amsterdam
SUMMARY:Vervroegd trainingsuur (M07)
DESCRIPTION:Ivm Top Marathon later op de avond is dit uur vervroegd en ingekort.
URL:https://bga.amsterdam/event/vervroegd-trainingsuur-m07/
CATEGORIES:Algemeen,Langebaan
ATTACH;FMTTYPE=image/jpeg:https://bga.amsterdam/wp-content/uploads/2017/10/Baanselectie53.jpg
ORGANIZER;CN="BGA":MAILTO:info@bga.amsterdam
END:VEVENT
BEGIN:VEVENT
DTSTART;TZID=Europe/Amsterdam:20250321T181000
DTEND;TZID=Europe/Amsterdam:20250321T204000
DTSTAMP:20260421T041337
CREATED:20241227T110930Z
LAST-MODIFIED:20241227T110930Z
UID:6205-1742580600-1742589600@bga.amsterdam
SUMMARY:Clubkampioenschap 5Dorpen en Viking
DESCRIPTION:
URL:https://bga.amsterdam/event/clubkampioenschap-5dorpen-en-viking/
CATEGORIES:Langebaan,Wedstrijd
END:VEVENT
BEGIN:VEVENT
DTSTART;TZID=Europe/Amsterdam:20250319T201500
DTEND;TZID=Europe/Amsterdam:20250319T230000
DTSTAMP:20260421T041337
CREATED:20241227T110007Z
LAST-MODIFIED:20241227T110007Z
UID:6194-1742415300-1742425200@bga.amsterdam
SUMMARY:Marathon Kampioenschap van Amsterdam
DESCRIPTION:Iedereen is welkom
URL:https://bga.amsterdam/event/marathon-kampioenschap-van-amsterdam/
CATEGORIES:Marathon,Wedstrijd
ATTACH;FMTTYPE=image/png:https://bga.amsterdam/wp-content/uploads/2024/09/Scherm¬≠afbeelding-2024-09-30-om-11.52.31-1.png
ORGANIZER;CN="BGA":MAILTO:info@bga.amsterdam
END:VEVENT
BEGIN:VEVENT
DTSTART;TZID=Europe/Amsterdam:20250319T175000
DTEND;TZID=Europe/Amsterdam:20250319T200000
DTSTAMP:20260421T041337
CREATED:20241227T110807Z
LAST-MODIFIED:20241227T110807Z
UID:6203-1742406600-1742414400@bga.amsterdam
SUMMARY:Clubkampioenschap Poelster
DESCRIPTION:
URL:https://bga.amsterdam/event/clubkampioenschap-poelster/
CATEGORIES:Langebaan,Wedstrijd
END:VEVENT
BEGIN:VEVENT
DTSTART;TZID=Europe/Amsterdam:20250318T165000
DTEND;TZID=Europe/Amsterdam:20250318T192000
DTSTAMP:20260421T041337
CREATED:20241227T110657Z
LAST-MODIFIED:20241227T110657Z
UID:6200-1742316600-1742325600@bga.amsterdam
SUMMARY:Clubkampioenschap Driemond\, Baambrugge\, Diemen
DESCRIPTION:
URL:https://bga.amsterdam/event/clubkampioenschap-driemond-baambrugge-diemen/
CATEGORIES:Langebaan,Wedstrijd
END:VEVENT
BEGIN:VEVENT
DTSTART;TZID=Europe/Amsterdam:20250316T192000
DTEND;TZID=Europe/Amsterdam:20250316T214500
DTSTAMP:20260421T041337
CREATED:20241227T110501Z
LAST-MODIFIED:20241227T110501Z
UID:6198-1742152800-1742161500@bga.amsterdam
SUMMARY:Kampioenschap Amsterdam (jun CBA)
DESCRIPTION:
URL:https://bga.amsterdam/event/kampioenschap-amsterdam-jun-cba/
CATEGORIES:Langebaan,Wedstrijd
ATTACH;FMTTYPE=image/png:https://bga.amsterdam/wp-content/uploads/2024/09/Scherm¬≠afbeelding-2024-09-30-om-11.52.31-1.png
ORGANIZER;CN="BGA":MAILTO:info@bga.amsterdam
END:VEVENT
BEGIN:VEVENT
DTSTART;TZID=Europe/Amsterdam:20250316T070000
DTEND;TZID=Europe/Amsterdam:20250316T090000
DTSTAMP:20260421T041337
CREATED:20241227T110227Z
LAST-MODIFIED:20241227T110227Z
UID:6196-1742108400-1742115600@bga.amsterdam
SUMMARY:Langebaan en Jeugdmarathon FINALE
DESCRIPTION:
URL:https://bga.amsterdam/event/langebaan-en-jeugdmarathon-finale/
CATEGORIES:Langebaan,Marathon
ATTACH;FMTTYPE=image/png:https://bga.amsterdam/wp-content/uploads/2024/09/Scherm¬≠afbeelding-2024-09-30-om-11.52.31-1.png
ORGANIZER;CN="BGA":MAILTO:info@bga.amsterdam
END:VEVENT
BEGIN:VEVENT
DTSTART;TZID=Europe/Amsterdam:20250315T194000
DTEND;TZID=Europe/Amsterdam:20250315T233000
DTSTAMP:20260421T041337
CREATED:20241227T105532Z
LAST-MODIFIED:20241227T105532Z
UID:6185-1742067600-1742081400@bga.amsterdam
SUMMARY:Clubkampioenschap IJNG
DESCRIPTION:
URL:https://bga.amsterdam/event/clubkampioenschap-ijng/
CATEGORIES:Langebaan,Wedstrijd
END:VEVENT
BEGIN:VEVENT
DTSTART;TZID=Europe/Amsterdam:20250315T181500
DTEND;TZID=Europe/Amsterdam:20250315T192000
DTSTAMP:20260421T041337
CREATED:20241227T105029Z
LAST-MODIFIED:20241227T105029Z
UID:6183-1742062500-1742066400@bga.amsterdam
SUMMARY:Wedstrijd voor Jeugdschaatsers
DESCRIPTION:Inschrijven via jeugdcommissie BGA
URL:https://bga.amsterdam/event/wedstrijd-voor-jeugdschaatsers/
CATEGORIES:Jeugdschaatsen,Langebaan
ATTACH;FMTTYPE=image/png:https://bga.amsterdam/wp-content/uploads/2024/09/Scherm¬≠afbeelding-2024-09-30-om-11.52.31-1.png
ORGANIZER;CN="BGA":MAILTO:info@bga.amsterdam
END:VEVENT
BEGIN:VEVENT
DTSTART;TZID=Europe/Amsterdam:20250315T070000
DTEND;TZID=Europe/Amsterdam:20250315T090000
DTSTAMP:20260421T041337
CREATED:20241227T104826Z
LAST-MODIFIED:20241227T104826Z
UID:6181-1742022000-1742029200@bga.amsterdam
SUMMARY:Kampioenschap Amsterdam (pupillen)
DESCRIPTION:
URL:https://bga.amsterdam/event/kampioenschap-amsterdam-pupillen/
CATEGORIES:Langebaan
ATTACH;FMTTYPE=image/png:https://bga.amsterdam/wp-content/uploads/2024/09/Scherm¬≠afbeelding-2024-09-30-om-11.52.31-1.png
ORGANIZER;CN="BGA":MAILTO:info@bga.amsterdam
END:VEVENT
BEGIN:VEVENT
DTSTART;TZID=Europe/Amsterdam:20250312T210000
DTEND;TZID=Europe/Amsterdam:20250312T230000
DTSTAMP:20260421T041337
CREATED:20241227T105849Z
LAST-MODIFIED:20241227T105849Z
UID:6192-1741813200-1741820400@bga.amsterdam
SUMMARY:Marathon competitie
DESCRIPTION:
URL:https://bga.amsterdam/event/marathon-competitie-5/
CATEGORIES:Marathon,Wedstrijd
ATTACH;FMTTYPE=image/png:https://bga.amsterdam/wp-content/uploads/2024/09/Scherm¬≠afbeelding-2024-09-30-om-11.52.31-1.png
ORGANIZER;CN="BGA":MAILTO:info@bga.amsterdam
END:VEVENT
BEGIN:VEVENT
DTSTART;TZID=Europe/Amsterdam:20250309T192000
DTEND;TZID=Europe/Amsterdam:20250309T230000
DTSTAMP:20260421T041337
CREATED:20241227T104711Z
LAST-MODIFIED:20241227T104711Z
UID:6179-1741548000-1741561200@bga.amsterdam
SUMMARY:Clubkampioenschap Hogerop
DESCRIPTION:
URL:https://bga.amsterdam/event/clubkampioenschap-hogerop/
CATEGORIES:Langebaan,Wedstrijd
END:VEVENT
BEGIN:VEVENT
DTSTART;TZID=Europe/Amsterdam:20250309T070000
DTEND;TZID=Europe/Amsterdam:20250309T090000
DTSTAMP:20260421T041337
CREATED:20241227T104554Z
LAST-MODIFIED:20241227T104554Z
UID:6176-1741503600-1741510800@bga.amsterdam
SUMMARY:Clubkampioenschap HGI en Centrum
DESCRIPTION:
URL:https://bga.amsterdam/event/clubkampioenschap-hgi-en-centrum/
CATEGORIES:Langebaan,Wedstrijd
END:VEVENT
BEGIN:VEVENT
DTSTART;TZID=Europe/Amsterdam:20250308T194000
DTEND;TZID=Europe/Amsterdam:20250308T233000
DTSTAMP:20260421T041337
CREATED:20241227T104433Z
LAST-MODIFIED:20241227T104433Z
UID:6174-1741462800-1741476600@bga.amsterdam
SUMMARY:Clubkampioenschap HCA
DESCRIPTION:
URL:https://bga.amsterdam/event/clubkampioenschap-hca/
CATEGORIES:Langebaan
ATTACH;FMTTYPE=image/png:https://bga.amsterdam/wp-content/uploads/2024/12/Header-mailing-HCA.png
END:VEVENT
BEGIN:VEVENT
DTSTART;TZID=Europe/Amsterdam:20250305T210000
DTEND;TZID=Europe/Amsterdam:20250305T230000
DTSTAMP:20260421T041337
CREATED:20241227T105649Z
LAST-MODIFIED:20241227T105649Z
UID:6188-1741208400-1741215600@bga.amsterdam
SUMMARY:Marathon competitie
DESCRIPTION:
URL:https://bga.amsterdam/event/marathon-competitie-3/
CATEGORIES:Marathon,Wedstrijd
ATTACH;FMTTYPE=image/png:https://bga.amsterdam/wp-content/uploads/2024/09/Scherm¬≠afbeelding-2024-09-30-om-11.52.31-1.png
ORGANIZER;CN="BGA":MAILTO:info@bga.amsterdam
END:VEVENT
BEGIN:VEVENT
DTSTART;TZID=Europe/Amsterdam:20250302T192000
DTEND;TZID=Europe/Amsterdam:20250302T230000
DTSTAMP:20260421T041337
CREATED:20241227T104331Z
LAST-MODIFIED:20241227T104331Z
UID:6172-1740943200-1740956400@bga.amsterdam
SUMMARY:Clubkampioenschap ASV en Lelystad
DESCRIPTION:
URL:https://bga.amsterdam/event/clubkampioenschap-asv-en-lelystad/
CATEGORIES:Langebaan,Wedstrijd
END:VEVENT
BEGIN:VEVENT
DTSTART;TZID=Europe/Amsterdam:20250301T194000
DTEND;TZID=Europe/Amsterdam:20250301T233000
DTSTAMP:20260421T041337
CREATED:20241227T104129Z
LAST-MODIFIED:20241227T104129Z
UID:6167-1740858000-1740871800@bga.amsterdam
SUMMARY:Clubkampioenschap Skits en Ztikz
DESCRIPTION:
URL:https://bga.amsterdam/event/clubkampioenschap-skits-en-ztikz/
CATEGORIES:Langebaan
END:VEVENT
BEGIN:VEVENT
DTSTART;TZID=Europe/Amsterdam:20250226T210000
DTEND;TZID=Europe/Amsterdam:20250226T230000
DTSTAMP:20260421T041337
CREATED:20241227T105755Z
LAST-MODIFIED:20241227T105755Z
UID:6190-1740603600-1740610800@bga.amsterdam
SUMMARY:Marathon competitie
DESCRIPTION:
URL:https://bga.amsterdam/event/marathon-competitie-4/
CATEGORIES:Marathon,Wedstrijd
ATTACH;FMTTYPE=image/png:https://bga.amsterdam/wp-content/uploads/2024/09/Scherm¬≠afbeelding-2024-09-30-om-11.52.31-1.png
ORGANIZER;CN="BGA":MAILTO:info@bga.amsterdam
END:VEVENT
BEGIN:VEVENT
DTSTART;TZID=Europe/Amsterdam:20250223T070000
DTEND;TZID=Europe/Amsterdam:20250223T090000
DTSTAMP:20260421T041337
CREATED:20241227T103803Z
LAST-MODIFIED:20241227T103803Z
UID:6163-1740294000-1740301200@bga.amsterdam
SUMMARY:Langebaan en Jeugdmarathon 8
DESCRIPTION:
URL:https://bga.amsterdam/event/langebaan-en-jeugdmarathon-8/
CATEGORIES:Langebaan,Marathon,Wedstrijd
ORGANIZER;CN="BGA":MAILTO:info@bga.amsterdam
END:VEVENT
END:VCALENDAR