BEGIN:VCALENDAR
VERSION:2.0
PRODID:-//BGA - ECPv6.15.20//NONSGML v1.0//EN
CALSCALE:GREGORIAN
METHOD:PUBLISH
X-ORIGINAL-URL:https://bga.amsterdam
X-WR-CALDESC:Evenementen voor BGA
REFRESH-INTERVAL;VALUE=DURATION:PT1H
X-Robots-Tag:noindex
X-PUBLISHED-TTL:PT1H
BEGIN:VTIMEZONE
TZID:Europe/Amsterdam
BEGIN:DAYLIGHT
TZOFFSETFROM:+0100
TZOFFSETTO:+0200
TZNAME:CEST
DTSTART:20240331T010000
END:DAYLIGHT
BEGIN:STANDARD
TZOFFSETFROM:+0200
TZOFFSETTO:+0100
TZNAME:CET
DTSTART:20241027T010000
END:STANDARD
BEGIN:DAYLIGHT
TZOFFSETFROM:+0100
TZOFFSETTO:+0200
TZNAME:CEST
DTSTART:20250330T010000
END:DAYLIGHT
BEGIN:STANDARD
TZOFFSETFROM:+0200
TZOFFSETTO:+0100
TZNAME:CET
DTSTART:20251026T010000
END:STANDARD
BEGIN:DAYLIGHT
TZOFFSETFROM:+0100
TZOFFSETTO:+0200
TZNAME:CEST
DTSTART:20260329T010000
END:DAYLIGHT
BEGIN:STANDARD
TZOFFSETFROM:+0200
TZOFFSETTO:+0100
TZNAME:CET
DTSTART:20261025T010000
END:STANDARD
END:VTIMEZONE
BEGIN:VEVENT
DTSTART;TZID=Europe/Amsterdam:20250105T203000
DTEND;TZID=Europe/Amsterdam:20250105T230000
DTSTAMP:20260421T220044
CREATED:20241227T094317Z
LAST-MODIFIED:20241227T094910Z
UID:6102-1736109000-1736118000@bga.amsterdam
SUMMARY:Andantino 7 (jun-masters)
DESCRIPTION:
URL:https://bga.amsterdam/event/andantino-7/
CATEGORIES:Andantino,Langebaan
ATTACH;FMTTYPE=image/png:https://bga.amsterdam/wp-content/uploads/2017/06/Andantino.png
ORGANIZER;CN="BGA":MAILTO:info@bga.amsterdam
END:VEVENT
BEGIN:VEVENT
DTSTART;TZID=Europe/Amsterdam:20250108T210000
DTEND;TZID=Europe/Amsterdam:20250108T230000
DTSTAMP:20260421T220044
CREATED:20241227T094442Z
LAST-MODIFIED:20241227T101613Z
UID:6104-1736370000-1736377200@bga.amsterdam
SUMMARY:Marathon Competitie
DESCRIPTION:
URL:https://bga.amsterdam/event/marathon-competitie-amsterdam/
CATEGORIES:Marathon
ORGANIZER;CN="BGA":MAILTO:info@bga.amsterdam
END:VEVENT
BEGIN:VEVENT
DTSTART;TZID=Europe/Amsterdam:20250112T070000
DTEND;TZID=Europe/Amsterdam:20250112T090000
DTSTAMP:20260421T220044
CREATED:20241227T095804Z
LAST-MODIFIED:20241227T095804Z
UID:6115-1736665200-1736672400@bga.amsterdam
SUMMARY:AYC Bokaal (pup A en jun C1 op uitnodiging)
DESCRIPTION:
URL:https://bga.amsterdam/event/ayc-bokaal-pup-a-en-jun-c1-op-uitnodiging/
CATEGORIES:Langebaan
ORGANIZER;CN="BGA":MAILTO:info@bga.amsterdam
END:VEVENT
BEGIN:VEVENT
DTSTART;TZID=Europe/Amsterdam:20250112T192000
DTEND;TZID=Europe/Amsterdam:20250112T214500
DTSTAMP:20260421T220044
CREATED:20241227T095946Z
LAST-MODIFIED:20241227T095958Z
UID:6117-1736709600-1736718300@bga.amsterdam
SUMMARY:Team Pursuit\, Team Sprint\, Mass Start
DESCRIPTION:
URL:https://bga.amsterdam/event/team-persuit-team-sprint-mass-start/
CATEGORIES:Langebaan,Marathon,Wedstrijd
ATTACH;FMTTYPE=image/png:https://bga.amsterdam/wp-content/uploads/2024/09/Scherm¬≠afbeelding-2024-09-30-om-11.52.31-1.png
ORGANIZER;CN="BGA":MAILTO:info@bga.amsterdam
END:VEVENT
BEGIN:VEVENT
DTSTART;TZID=Europe/Amsterdam:20250115T080000
DTEND;TZID=Europe/Amsterdam:20250115T170000
DTSTAMP:20260421T220044
CREATED:20241227T101551Z
LAST-MODIFIED:20241227T101551Z
UID:6130-1736928000-1736960400@bga.amsterdam
SUMMARY:Marathon competitie
DESCRIPTION:
URL:https://bga.amsterdam/event/marathon-competitie/
CATEGORIES:Marathon
ATTACH;FMTTYPE=image/png:https://bga.amsterdam/wp-content/uploads/2022/11/Marathon_algemeen.png
ORGANIZER;CN="BGA":MAILTO:info@bga.amsterdam
END:VEVENT
BEGIN:VEVENT
DTSTART;TZID=Europe/Amsterdam:20250119T192000
DTEND;TZID=Europe/Amsterdam:20250119T214500
DTSTAMP:20260421T220044
CREATED:20241227T101109Z
LAST-MODIFIED:20241227T101109Z
UID:6123-1737314400-1737323100@bga.amsterdam
SUMMARY:Kampioenschap Amsterdam (neo-sen-mast)
DESCRIPTION:
URL:https://bga.amsterdam/event/kampioenschap-amsterdam-neo-sen-mast/
CATEGORIES:Wedstrijd
ATTACH;FMTTYPE=image/png:https://bga.amsterdam/wp-content/uploads/2022/11/Marathon_algemeen.png
ORGANIZER;CN="BGA":MAILTO:info@bga.amsterdam
END:VEVENT
BEGIN:VEVENT
DTSTART;TZID=Europe/Amsterdam:20250125T194000
DTEND;TZID=Europe/Amsterdam:20250125T233000
DTSTAMP:20260421T220044
CREATED:20241227T101253Z
LAST-MODIFIED:20241227T103156Z
UID:6125-1737834000-1737847800@bga.amsterdam
SUMMARY:HCA Willem Augustin Bokaal
DESCRIPTION:
URL:https://bga.amsterdam/event/willem-augistin-bokaal/
CATEGORIES:Langebaan,Wedstrijd
ATTACH;FMTTYPE=image/png:https://bga.amsterdam/wp-content/uploads/2024/12/Header-mailing-HCA.png
END:VEVENT
BEGIN:VEVENT
DTSTART;TZID=Europe/Amsterdam:20250126T070000
DTEND;TZID=Europe/Amsterdam:20250126T090000
DTSTAMP:20260421T220044
CREATED:20241227T101413Z
LAST-MODIFIED:20241227T101413Z
UID:6128-1737874800-1737882000@bga.amsterdam
SUMMARY:Finale Portengen Pupillencompetitie
DESCRIPTION:
URL:https://bga.amsterdam/event/finale-portengen-pupillencompetitie/
CATEGORIES:Wedstrijd
ATTACH;FMTTYPE=image/jpeg:https://bga.amsterdam/wp-content/uploads/2017/10/Jeugdmarathon.jpg
ORGANIZER;CN="BGA":MAILTO:info@bga.amsterdam
END:VEVENT
BEGIN:VEVENT
DTSTART;TZID=Europe/Amsterdam:20250126T192000
DTEND;TZID=Europe/Amsterdam:20250126T202000
DTSTAMP:20260421T220044
CREATED:20241227T101736Z
LAST-MODIFIED:20241227T101736Z
UID:6133-1737919200-1737922800@bga.amsterdam
SUMMARY:Jeugdschaatswedstrijd
DESCRIPTION:
URL:https://bga.amsterdam/event/jeugdschaatswedstrijd/
CATEGORIES:Jeugdschaatsen,Wedstrijd
ORGANIZER;CN="BGA":MAILTO:info@bga.amsterdam
END:VEVENT
END:VCALENDAR