BEGIN:VCALENDAR
VERSION:2.0
PRODID:-//BGA - ECPv6.15.20//NONSGML v1.0//EN
CALSCALE:GREGORIAN
METHOD:PUBLISH
X-ORIGINAL-URL:https://bga.amsterdam
X-WR-CALDESC:Evenementen voor BGA
REFRESH-INTERVAL;VALUE=DURATION:PT1H
X-Robots-Tag:noindex
X-PUBLISHED-TTL:PT1H
BEGIN:VTIMEZONE
TZID:Europe/Amsterdam
BEGIN:DAYLIGHT
TZOFFSETFROM:+0100
TZOFFSETTO:+0200
TZNAME:CEST
DTSTART:20220327T010000
END:DAYLIGHT
BEGIN:STANDARD
TZOFFSETFROM:+0200
TZOFFSETTO:+0100
TZNAME:CET
DTSTART:20221030T010000
END:STANDARD
BEGIN:DAYLIGHT
TZOFFSETFROM:+0100
TZOFFSETTO:+0200
TZNAME:CEST
DTSTART:20230326T010000
END:DAYLIGHT
BEGIN:STANDARD
TZOFFSETFROM:+0200
TZOFFSETTO:+0100
TZNAME:CET
DTSTART:20231029T010000
END:STANDARD
BEGIN:DAYLIGHT
TZOFFSETFROM:+0100
TZOFFSETTO:+0200
TZNAME:CEST
DTSTART:20240331T010000
END:DAYLIGHT
BEGIN:STANDARD
TZOFFSETFROM:+0200
TZOFFSETTO:+0100
TZNAME:CET
DTSTART:20241027T010000
END:STANDARD
END:VTIMEZONE
BEGIN:VEVENT
DTSTART;VALUE=DATE:20230318
DTEND;VALUE=DATE:20231020
DTSTAMP:20260423T001733
CREATED:20230411T124854Z
LAST-MODIFIED:20231020T143223Z
UID:4771-1679097600-1697759999@bga.amsterdam
SUMMARY:De ijsbaan wordt verbouwd
DESCRIPTION:Momenteel vinden er werkzaamheden plaats om het buizenstelsel onder het ijs compleet te vervangen\, daarnaast wordt de krabbelbaan verplaatst. De Jaap Edenbaan hoopt en gaat ervan uit dat de werkzaamheden begin oktober afgerond zijn. \nMeer informatie vind je op de site van de Jaap Edenbaan.
URL:https://bga.amsterdam/event/de-ijsbaan-wordt-verbouwd/
LOCATION:JEbaan\, Radioweg 64\, Amsterdam\, Nederland
CATEGORIES:Algemeen
ORGANIZER;CN="BGA":MAILTO:info@bga.amsterdam
END:VEVENT
END:VCALENDAR