BEGIN:VCALENDAR
VERSION:2.0
PRODID:-//BGA - ECPv6.15.20//NONSGML v1.0//EN
CALSCALE:GREGORIAN
METHOD:PUBLISH
X-ORIGINAL-URL:https://bga.amsterdam
X-WR-CALDESC:Evenementen voor BGA
REFRESH-INTERVAL;VALUE=DURATION:PT1H
X-Robots-Tag:noindex
X-PUBLISHED-TTL:PT1H
BEGIN:VTIMEZONE
TZID:Europe/Amsterdam
BEGIN:DAYLIGHT
TZOFFSETFROM:+0100
TZOFFSETTO:+0200
TZNAME:CEST
DTSTART:20220327T010000
END:DAYLIGHT
BEGIN:STANDARD
TZOFFSETFROM:+0200
TZOFFSETTO:+0100
TZNAME:CET
DTSTART:20221030T010000
END:STANDARD
BEGIN:DAYLIGHT
TZOFFSETFROM:+0100
TZOFFSETTO:+0200
TZNAME:CEST
DTSTART:20230326T010000
END:DAYLIGHT
BEGIN:STANDARD
TZOFFSETFROM:+0200
TZOFFSETTO:+0100
TZNAME:CET
DTSTART:20231029T010000
END:STANDARD
BEGIN:DAYLIGHT
TZOFFSETFROM:+0100
TZOFFSETTO:+0200
TZNAME:CEST
DTSTART:20240331T010000
END:DAYLIGHT
BEGIN:STANDARD
TZOFFSETFROM:+0200
TZOFFSETTO:+0100
TZNAME:CET
DTSTART:20241027T010000
END:STANDARD
END:VTIMEZONE
BEGIN:VEVENT
DTSTART;TZID=Europe/Amsterdam:20230218T193000
DTEND;TZID=Europe/Amsterdam:20230218T220000
DTSTAMP:20260424T075322
CREATED:20230215T162513Z
LAST-MODIFIED:20230215T162513Z
UID:4456-1676748600-1676757600@bga.amsterdam
SUMMARY:AMLW230218 Aafje Houwer Trofee - HGI + Centrum in Leeuwarden
DESCRIPTION:
URL:https://bga.amsterdam/event/amlw230218-aafje-houwer-trofee-hgi-centrum-in-leeuwarden/
LOCATION:Leeuwarden\, Frysl√¢nplein 1\, Leeuwarden\, Friesland\, 8914 BZ\, Nederland
CATEGORIES:Langebaan,Wedstrijd
END:VEVENT
BEGIN:VEVENT
DTSTART;TZID=Europe/Amsterdam:20230218T194000
DTEND;TZID=Europe/Amsterdam:20230218T220000
DTSTAMP:20260424T075322
CREATED:20230215T162658Z
LAST-MODIFIED:20230215T162658Z
UID:4460-1676749200-1676757600@bga.amsterdam
SUMMARY:AM088 HCA - 6
DESCRIPTION:
URL:https://bga.amsterdam/event/am088-hca-6/
LOCATION:JEbaan\, Radioweg 64\, Amsterdam\, Nederland
CATEGORIES:Langebaan,Wedstrijd
END:VEVENT
END:VCALENDAR