BEGIN:VCALENDAR
VERSION:2.0
PRODID:-//BGA - ECPv6.15.20//NONSGML v1.0//EN
CALSCALE:GREGORIAN
METHOD:PUBLISH
X-WR-CALNAME:BGA
X-ORIGINAL-URL:https://bga.amsterdam
X-WR-CALDESC:Evenementen voor BGA
REFRESH-INTERVAL;VALUE=DURATION:PT1H
X-Robots-Tag:noindex
X-PUBLISHED-TTL:PT1H
BEGIN:VTIMEZONE
TZID:Europe/Amsterdam
BEGIN:DAYLIGHT
TZOFFSETFROM:+0100
TZOFFSETTO:+0200
TZNAME:CEST
DTSTART:20210328T010000
END:DAYLIGHT
BEGIN:STANDARD
TZOFFSETFROM:+0200
TZOFFSETTO:+0100
TZNAME:CET
DTSTART:20211031T010000
END:STANDARD
BEGIN:DAYLIGHT
TZOFFSETFROM:+0100
TZOFFSETTO:+0200
TZNAME:CEST
DTSTART:20220327T010000
END:DAYLIGHT
BEGIN:STANDARD
TZOFFSETFROM:+0200
TZOFFSETTO:+0100
TZNAME:CET
DTSTART:20221030T010000
END:STANDARD
BEGIN:DAYLIGHT
TZOFFSETFROM:+0100
TZOFFSETTO:+0200
TZNAME:CEST
DTSTART:20230326T010000
END:DAYLIGHT
BEGIN:STANDARD
TZOFFSETFROM:+0200
TZOFFSETTO:+0100
TZNAME:CET
DTSTART:20231029T010000
END:STANDARD
END:VTIMEZONE
BEGIN:VEVENT
DTSTART;TZID=Europe/Amsterdam:20221106T070000
DTEND;TZID=Europe/Amsterdam:20221106T090000
DTSTAMP:20260424T114232
CREATED:20221013T153046Z
LAST-MODIFIED:20221013T153206Z
UID:3655-1667718000-1667725200@bga.amsterdam
SUMMARY:AM021 Pupillencompetitie -2-
DESCRIPTION:Pup & Jun C\,B (langebaan&marathon) – 2 (ook meetellend voor PupillenCompetitie-2 )
URL:https://bga.amsterdam/event/am021-pupillencompetitie-2/
CATEGORIES:Langebaan
ORGANIZER;CN="BGA":MAILTO:info@bga.amsterdam
END:VEVENT
END:VCALENDAR